BEGIN:VCALENDAR
VERSION:2.0
PRODID:-//TennisTavolo Italia - ECPv6.15.20//NONSGML v1.0//EN
CALSCALE:GREGORIAN
METHOD:PUBLISH
X-WR-CALNAME:TennisTavolo Italia
X-ORIGINAL-URL:https://www.tennistavoloitalia.it
X-WR-CALDESC:Eventi per TennisTavolo Italia
REFRESH-INTERVAL;VALUE=DURATION:PT1H
X-Robots-Tag:noindex
X-PUBLISHED-TTL:PT1H
BEGIN:VTIMEZONE
TZID:Europe/Rome
BEGIN:DAYLIGHT
TZOFFSETFROM:+0100
TZOFFSETTO:+0200
TZNAME:CEST
DTSTART:20230326T010000
END:DAYLIGHT
BEGIN:STANDARD
TZOFFSETFROM:+0200
TZOFFSETTO:+0100
TZNAME:CET
DTSTART:20231029T010000
END:STANDARD
BEGIN:DAYLIGHT
TZOFFSETFROM:+0100
TZOFFSETTO:+0200
TZNAME:CEST
DTSTART:20240331T010000
END:DAYLIGHT
BEGIN:STANDARD
TZOFFSETFROM:+0200
TZOFFSETTO:+0100
TZNAME:CET
DTSTART:20241027T010000
END:STANDARD
BEGIN:DAYLIGHT
TZOFFSETFROM:+0100
TZOFFSETTO:+0200
TZNAME:CEST
DTSTART:20250330T010000
END:DAYLIGHT
BEGIN:STANDARD
TZOFFSETFROM:+0200
TZOFFSETTO:+0100
TZNAME:CET
DTSTART:20251026T010000
END:STANDARD
END:VTIMEZONE
BEGIN:VEVENT
DTSTART;TZID=Europe/Rome:20240511T090000
DTEND;TZID=Europe/Rome:20240512T170000
DTSTAMP:20260425T165605
CREATED:20240418T162035Z
LAST-MODIFIED:20240418T162035Z
UID:27964-1715418000-1715533200@www.tennistavoloitalia.it
SUMMARY:Torneo Open Interregionale di Tennistavolo a Sesto Fiorentino del 11-12 Maggio 2024
DESCRIPTION:Sabato 11 e domenica 12 maggio si svolgerà\, presso il Palazzetto dello Sport “Vinicio Tarli”\, sito a Sesto Fiorentino\, in viale Niccolò Machiavelli\, un Torneo Open Interregionale di Tennistavolo. \nIl torneo avrà inizio alle 9 di sabato col Singolare Maschile Over 4500 / Femminile Over 350 e proseguirà alle 14.30 con il Singolare Maschile Over 1500 / Femminile Over 150. \nLa competizione continuerà domenica alle ore 9 col Singolare Maschile Over 472 / Femminile Over 35 e si concluderà con la gara delle 14.30\, il Singolare Over 50 Maschile / Femminile Assoluto. \nPer partecipare al torneo di Tennistavolo è necessario contattare il proprio Presidente di Società\, il quale provvederà a iscrivervi tramite il sito https://www.fitet.org/. \nAlla competizione potranno prendere parte tutti gli atleti tesserati entro le ore 23.59 di domenica 5 maggio\, secondo la propria Categoria\, prendendo in considerazione le classifiche valide al termine delle iscrizioni. Sono ammessi 64 atleti per ciascuna gara in programma. \nL’iscrizione alla competizione terminerà mercoledì 8 maggio. La quota di iscrizione è di 12€ e dovrà essere saldata prima di accedere al campo gara presso la Segreteria. \nDi seguito riportiamo la locandina ufficiale del Torneo Open Interregionale di Tennistavolo.
URL:https://www.tennistavoloitalia.it/evento/torneo-open-interregionale-di-tennistavolo-a-sesto-fiorentino-del-11-12-maggio-2024/
LOCATION:Palazzetto dello Sport “Vinicio Tarli”\, Viale Niccolò Machiavelli\, Sesto Fiorentino\, FI\, 50019\, Italia
CATEGORIES:Tornei Federali
ATTACH;FMTTYPE=image/jpeg:https://www.tennistavoloitalia.it/wp-content/uploads/2024/04/img30.jpg
END:VEVENT
BEGIN:VEVENT
DTSTART;TZID=Europe/Rome:20240505T090000
DTEND;TZID=Europe/Rome:20240505T170000
DTSTAMP:20260425T165605
CREATED:20240418T144507Z
LAST-MODIFIED:20240418T144507Z
UID:27941-1714899600-1714928400@www.tennistavoloitalia.it
SUMMARY:Torneo Open Interregionale di Tennistavolo a Senigallia del 5 Maggio 2024
DESCRIPTION:Nella giornata di domenica 5 maggio si svolgerà\, presso il Centro Olimpico Tennistavolo\, sito a Senigallia\, in via del Molinello 32/A\, un Torneo Open Interregionale di Tennistavolo. \nLa gara di Tennistavolo avrà inizio alle ore 9 col Singolare Maschile Over 3500 e proseguirà alle 13.30 con il Singolare Maschile Under 3500. \nAlla competizione potranno prendere parte tutti gli atleti tesserati entro le ore 23.59 di mercoledì 1° maggio\, secondo la propria Categoria\, prendendo in considerazione le classifiche valide domenica 21 aprile. Sono ammessi 57 atleti per la gara Over 3500 e 48 per quella Under 3500. \nPer partecipare al torneo di Tennistavolo è necessario contattare il proprio Presidente di Società\, il quale provvederà a iscrivervi tramite il sito https://www.fitet.org/. \nL’iscrizione alla competizione terminerà giovedì 2 maggio. La quota di iscrizione è di 12€ e sarà addebitata direttamente nell’area riservata della propria società. \nDi seguito riportiamo la locandina ufficiale del Torneo Open Interregionale di Tennistavolo.
URL:https://www.tennistavoloitalia.it/evento/torneo-open-interregionale-di-tennistavolo-a-senigallia-del-5-maggio-2024/
LOCATION:Centro Olimpico Tennistavolo Senigallia\, Via del Molinello 32/A\, Senigallia\, AN\, 60019\, Italia
CATEGORIES:Tornei Federali
ATTACH;FMTTYPE=image/jpeg:https://www.tennistavoloitalia.it/wp-content/uploads/2024/04/torneo-open-interregionale-di-tennistavolo-a-senigallia-del-5-maggio-2024.jpg
END:VEVENT
BEGIN:VEVENT
DTSTART;TZID=Europe/Rome:20240504T100000
DTEND;TZID=Europe/Rome:20240505T170000
DTSTAMP:20260425T165605
CREATED:20240415T171259Z
LAST-MODIFIED:20240416T084105Z
UID:27841-1714816800-1714928400@www.tennistavoloitalia.it
SUMMARY:TORNEO REGIONALE DI QUALIFICAZIONE AI CAMPIONATI ITALIANI DI TENNISTAVOLO A CIAMPINO DEL 4-5 MAGGIO 2024
DESCRIPTION:Sabato 4 e domenica 5 maggio presso la palestra sita a Ciampino\, in via Mura dei Francesi 174 si svolgerà il 7° Torneo di Qualificazione di Categoria della Stagione 2023/2024. \nIl Torneo di tennistavolo avrà inizio alle ore 10 di sabato con il Singolare Maschile 5^ Categoria / Femminile 4^ Categoria e proseguirà a partire dalle ore 15 con il Singolare Maschile 6^ Categoria / Femminile 5^ Categoria. \nDomenica\, invece\, a partire dalle ore 10\, si comincerà con il Doppio Maschile 4^ Categoria\, seguito dal Singolare Maschile 4^ Categoria alle ore 13.30. \nTutte le gare individuali si svolgeranno con gironi iniziali di partite di sola andata formati da 4 giocatori e successivi incontri ad eliminazione diretta (si qualificano i primi 2 di ciascun girone). Tutte le gare si disputeranno al meglio di 3 set su 5.\nNel doppio\, qualora le coppie iscritte non superino il numero di 16\, le gare si svolgeranno con qualificazione a Gironi. \nPer partecipare al torneo è necessario essere tesserati alla FITET entro e non oltre domenica 28 aprile ed essere in possesso del certificato di idoneità sportiva in corso di validità alla data della gara. \nGli atleti si possono iscrivere solo alla categoria di appartenenza in base alle classifiche di inizio stagione. Possono partecipare alle gare di 5^ 6^ e Categoria atlete/i di qualsiasi nazionalità\, tesserate/i entro domenica 28 aprile. La competizione di 4^ Categoria è valida per le qualificazioni ai Campionati Italiani 2024\, pertanto è aperta l’iscrizione unicamente agli atleti con cittadinanza italiana tesserati alla FITET entro e non oltre domenica 28 aprile. \nDi seguito la locandina ufficiale del Torneo Regionale di Qualificazione ai Campionati Italiani di Tennistavolo.
URL:https://www.tennistavoloitalia.it/evento/torneo-regionale-di-qualificazione-ai-campionati-italiani-di-tennistavolo-a-ciampino-del-4-5-maggio-2024/
LOCATION:Palestra Scuola Umberto Nobile\, Via Mura dei Francesi 174\, Ciampino\, RM\, 00043\, Italia
CATEGORIES:Tornei Federali
ATTACH;FMTTYPE=image/jpeg:https://www.tennistavoloitalia.it/wp-content/uploads/2024/04/7-torneo-di-qualificazione-di-categoria-stagione-2023-2024.jpg
ORGANIZER;CN="A.S.D FUTURA '94":MAILTO:info@opestennistavolo.it
END:VEVENT
BEGIN:VEVENT
DTSTART;TZID=Europe/Rome:20240504T093000
DTEND;TZID=Europe/Rome:20240505T170000
DTSTAMP:20260425T165605
CREATED:20240417T153438Z
LAST-MODIFIED:20240417T153912Z
UID:27903-1714815000-1714928400@www.tennistavoloitalia.it
SUMMARY:Torneo Open Interregionale di Tennistavolo a Messina del 4-5 Maggio 2024
DESCRIPTION:Sabato 4 e domenica 5 maggio si svolgerà\, presso la Palestra Villa Dante\, sita a Messina\, in viale San Martino\, un Torneo Open Interregionale di Tennistavolo. \nLa competizione di Tennistavolo avrà inizio alle 9.30 di sabato con il Singolare Maschile 6^ Categoria e proseguirà nel pomeriggio\, alle 14\, con il Singolare Maschile 5^ Categoria. \nSi riprenderà domenica alle ore 9.30 con il Doppio Maschile 4^ 5^ e 6^ Categoria e si concluderà con la gara delle 11.30\, il Singolare Maschile 4^ Categoria. \nAlla competizione potranno prendere parte tutti gli atleti tesserati entro le ore 23.59 di mercoledì 1° maggio\, secondo la propria Categoria\, prendendo in considerazione le classifiche valide al momento della chiusura delle iscrizioni. Sono ammessi 56 atleti per ciascuna gara singolare in programma e 32 coppie per quelle di doppio. I primi 16 classificati della gara di 6^ Categoria possono iscriversi alla successiva di 5^ Categoria; i primi 16 classificati della gara di 5^ Categoria possono iscriversi alla successiva di 4^ Categoria. L’iscrizione va richiesta al Giudice Arbitro del Torneo non appena si consegue la posizione che ne dà diritto. \nPer partecipare al torneo di Tennistavolo è necessario contattare il proprio Presidente di Società\, il quale provvederà a iscrivervi tramite il sito https://www.fitet.org/. \nL’iscrizione alla competizione terminerà mercoledì 1° maggio. La quota di iscrizione è di 12€ per gare singole e 16€ per quelle di doppio. Tale quota dovrà essere saldata prima di accedere al campo di gara presso la Segreteria. \nDi seguito riportiamo la locandina ufficiale del Torneo Open Interregionale di Tennistavolo.
URL:https://www.tennistavoloitalia.it/evento/torneo-open-interregionale-di-tennistavolo-a-messina-del-4-5-maggio-2024/
LOCATION:Palestra Villa Dante\, Viale San Martino\, Messina\, ME\, 98124\, Italia
CATEGORIES:Tornei Federali
ATTACH;FMTTYPE=image/jpeg:https://www.tennistavoloitalia.it/wp-content/uploads/2024/04/torneo-open-interregionale-di-tennistavolo-a-messina-del-4-5-maggio-2024.jpg
END:VEVENT
BEGIN:VEVENT
DTSTART;TZID=Europe/Rome:20240504T090000
DTEND;TZID=Europe/Rome:20240505T180000
DTSTAMP:20260425T165605
CREATED:20240418T135906Z
LAST-MODIFIED:20240418T135906Z
UID:27930-1714813200-1714932000@www.tennistavoloitalia.it
SUMMARY:3^ Giornate Rosa di Tennistavolo della Stagione 2023/2024 a San Giovanni Lupatoto del 4-5 Maggio 2023
DESCRIPTION:Sabato 4 e domenica 5 maggio si svolgeranno\, presso il PalaLupatotina\, sito a San Giovanni Lupatoto\, in via Monte Ortigara\, le 3^ Giornate Rosa di Tennistavolo della Stagione 2023/2024. \nLa competizione di Tennistavolo avrà inizio alle 9 di sabato con il Singolare Femminile 5^ Categoria e proseguirà alle 14.30 con il Singolare Femminile 4^ Categoria. \nSi continuerà la domenica\, alle ore 9\, col Singolare Femminile 3^ Categoria\, per concludere con la gara che comincerà alle 14.30\, il Singolare Femminile 2^ Categoria. \nPer partecipare al torneo di Tennistavolo è necessario contattare il proprio Presidente di Società\, il quale provvederà a iscrivervi tramite il sito https://www.fitet.org/. \nPossono iscriversi alla gara solo le atlete tesserate entro e non oltre sabato 27 aprile\, secondo la propria Categoria e prendendo in considerazione le classifiche valide ad inizio stagione. Potranno inoltre iscriversi alla gara della Categoria successivamente superiore\, le atlete classificate tra le prime 8 della gara della Categoria precedentemente inferiore. \nL’iscrizione alla competizione terminerà lunedì 29 aprile. La quota di iscrizione è di 12€ per ciascuna gara e dovrà essere saldata prima di accedere al campo di gara presso la Segreteria. \nDi seguito riportiamo la locandina ufficiale delle 3^ Giornate Rosa di Tennistavolo della Stagione 2023/2024.
URL:https://www.tennistavoloitalia.it/evento/3-giornate-rosa-di-tennistavolo-della-stagione-2023-2024-a-san-giovanni-lupatoto-del-4-5-maggio-2023/
LOCATION:PalaLupatotina\, Via Monte Ortigara\, San Giovanni Lupatoto\, VR\, 37057\, Italia
CATEGORIES:Tornei Federali
ATTACH;FMTTYPE=image/jpeg:https://www.tennistavoloitalia.it/wp-content/uploads/2024/04/giornate-rosa-di-tennistavolo-della-stagione-2023-2024-a-san-giovanni-lupatoto-del-4-5-maggio-2024.jpeg
END:VEVENT
BEGIN:VEVENT
DTSTART;TZID=Europe/Rome:20240504T090000
DTEND;TZID=Europe/Rome:20240505T180000
DTSTAMP:20260425T165605
CREATED:20240415T150448Z
LAST-MODIFIED:20240416T085136Z
UID:27829-1714813200-1714932000@www.tennistavoloitalia.it
SUMMARY:Torneo Nazionale di Tennistavolo di 2^ 3^ Categoria a Coccaglio del 4-5 Maggio 2024
DESCRIPTION:Sabato 4 e domenica 5 maggio si svolgerà\, presso il Palazzetto dello Sport\, sito a Coccaglio\, in via Paolo VI 10\, un Torneo Nazionale di Tennistavolo di 2^ 3^ Categoria. \nIl torneo di tennistavolo avrà inizio alle 9 di sabato con il Singolo Maschile 3^ Categoria. \nProseguirà nella giornata di domenica\, sempre alle ore 9\, con il Singolo Maschile 2^ Categoria. \nAlla competizione potranno prendere parte tutti gli atleti tesserati entro le ore 23.59 di sabato 27 aprile\, secondo la propria Categoria\, prendendo in considerazione le classifiche valide ad inizio stagione. \nPer partecipare al torneo è necessario contattare il proprio Presidente di Società\, il quale provvederà a iscrivervi tramite il sito https://www.fitet.org/. \nL’iscrizione al torneo terminerà mercoledì 1° maggio. La quota di iscrizione è di 12€ e dovrà essere saldata prima di accedere al campo gara presso la Segreteria. \nDi seguito riportiamo la locandina ufficiale del Torneo Nazionale di Tennistavolo di 2^ 3^ Categoria.
URL:https://www.tennistavoloitalia.it/evento/torneo-nazionale-di-tennistavolo-di-2-3-categoria-a-coccaglio-del-4-5-maggio-2024/
LOCATION:Palazzetto Sport Coccaglio\, Via Paolo VI 10\, Coccaglio\, BS\, 25030\, Italia
CATEGORIES:Tornei Federali
ATTACH;FMTTYPE=image/jpeg:https://www.tennistavoloitalia.it/wp-content/uploads/2024/04/3-torneo-nazionale-2-3-categoria-coccaglio-2023-2024.jpg
END:VEVENT
BEGIN:VEVENT
DTSTART;TZID=Europe/Rome:20240504T090000
DTEND;TZID=Europe/Rome:20240505T170000
DTSTAMP:20260425T165605
CREATED:20240417T134546Z
LAST-MODIFIED:20240417T134645Z
UID:27881-1714813200-1714928400@www.tennistavoloitalia.it
SUMMARY:Torneo Open Interregionale di Tennistavolo a Cortemaggiore del 4-5 Maggio 2024
DESCRIPTION:Sabato 4 e domenica 5 maggio si svolgerà\, presso la Palestra dell’Oratorio Don Bosco\, sita a Cortemaggiore\, in via Maria Boni Brighenti 3\, un Torneo Open Interregionale di Tennistavolo. \nLe gare di Tennistavolo avranno inizio alle ore 9 di sabato con il Singolare Maschile Over 1000 / Femminile 3^ e 4^ Categoria e proseguiranno alle 13 con il Singolare Maschile Over 450 / Femminile 3^ 4^ Categoria. \nLa competizione continuerà alle 9 di domenica col Singolare Maschile Over 4500 / Femminile 5^ Categoria e si concluderà con la gara delle 13\, il Singolare Maschile Over 2000 / Femminile 4^ e 5^ Categoria. \nAlla competizione potranno prendere parte tutti gli atleti tesserati entro le ore 23.59 di sabato 28 aprile\, secondo la propria Categoria\, prendendo in considerazione le classifiche valide al momento della chiusura delle iscrizioni. Per ciascuna gara in programma sono ammessi un numero finito atleti (consultare la locandina allegata per maggiori informazioni) e sarà possibile partecipare ad un numero massimo di due gare a persona. \nPer partecipare al torneo di Tennistavolo è necessario contattare il proprio Presidente di Società\, il quale provvederà a iscrivervi tramite il sito https://www.fitet.org/. \nL’iscrizione alla competizione terminerà mercoledì 1 maggio. La quota di iscrizione è di 12€ e dovrà essere saldata prima di accedere al campo gara presso la Segreteria. \nDi seguito riportiamo la locandina ufficiale del Torneo Open Interregionale di Tennistavolo.
URL:https://www.tennistavoloitalia.it/evento/torneo-open-interregionale-di-tennistavolo-a-cortemaggiore-del-4-5-maggio-2024/
LOCATION:Palestra dell’Oratorio Don Bosco\, Via Maria Boni Brighenti 3\, Cortemaggiore\, PC\, 29016\, Italia
CATEGORIES:Tornei Federali
ATTACH;FMTTYPE=image/jpeg:https://www.tennistavoloitalia.it/wp-content/uploads/2024/04/torneo-open-interregionale-di-tennistavolo-a-cortemaggiore-del-4-5-maggio-2024.jpg
END:VEVENT
BEGIN:VEVENT
DTSTART;TZID=Europe/Rome:20240427T133000
DTEND;TZID=Europe/Rome:20240428T180000
DTSTAMP:20260425T165605
CREATED:20240415T143351Z
LAST-MODIFIED:20240416T084704Z
UID:27824-1714224600-1714327200@www.tennistavoloitalia.it
SUMMARY:Torneo Nazionale Master di Tennistavolo a Coccaglio del 27-28 Aprile 2024
DESCRIPTION:Sabato 27 e domenica 28 aprile si svolgerà\, presso il Palazzetto Sport Coccaglio\, sito a Coccaglio\, in via Paolo VI 10\, un Torneo Nazionale Master della FITET. \nIl torneo di tennistavolo avrà inizio alle 13.30 di sabato con il Doppio Maschile 60/70\, alle 14.00 si disputerà il Doppio Maschile Over 70\, e alle 15.30\, in contemporanea\, il Singolo Maschile 60/70 e il Singolo Maschile Over 70. \nNella giornata di domenica\, a partire dalle ore 9.30 si disputeranno le gare di Doppio Maschile 40/50\, Doppio Maschile 50/60\, Doppio Femminile 40/60 e Doppio Femminile Over 60. Dopodiché\, si proseguirà alle 11.00 con le gare di Singolo Maschile 40/50\, Singolo Maschile 50/60\, Singolo Femminile 40/60 e Singolo Femminile Over 60. \nAlla competizione di tennistavolo potranno prendere parte tutti gli atleti tesserati entro le ore 23.59 di domenica 21 aprile\, secondo la propria Categoria\, prendendo in considerazione le classifiche valide al momento della chiusura delle iscrizioni. \nPer partecipare al torneo è necessario contattare il proprio Presidente di Società\, il quale provvederà a iscrivervi tramite il sito https://www.fitet.org/. \nL’iscrizione al torneo terminerà mercoledì 23 aprile. La quota di iscrizione è di 12€ per le gare singole\, 20€ per il doppio e dovrà essere saldata prima di accedere al campo gara presso la Segreteria. \nDi seguito riportiamo la locandina ufficiale del Torneo Nazionale Master di Tennistavolo.
URL:https://www.tennistavoloitalia.it/evento/torneo-nazionale-master-coccaglio/
LOCATION:Palazzetto Sport Coccaglio\, Via Paolo VI 10\, Coccaglio\, BS\, 25030\, Italia
CATEGORIES:Tornei Federali
ATTACH;FMTTYPE=image/jpeg:https://www.tennistavoloitalia.it/wp-content/uploads/2024/04/torneo-nazionale-master-coccaglio.jpg
END:VEVENT
BEGIN:VEVENT
DTSTART;TZID=Europe/Rome:20240425T083000
DTEND;TZID=Europe/Rome:20240430T200000
DTSTAMP:20260425T165605
CREATED:20240415T132944Z
LAST-MODIFIED:20240419T100837Z
UID:27782-1714033800-1714507200@www.tennistavoloitalia.it
SUMMARY:Campionati Italiani Giovanili di Tennistavolo 2024
DESCRIPTION:Dal 25 al 30 aprile 2024\, presso il Palatennistavolo “A. De Santis” sito a Terni\, in via Italo Ferri (località Campitello)\, si svolgeranno i Campionati Italiani giovanili di tennistavolo Under 11\, Under 13\, Under 15 e Under 17  \nIl torneo si aprirà giovedì 25 aprile a partire dalle ore 8.30 con le gare a squadre Femminile e Maschile Under 15 e Under 17. \nNella giornata di venerdì 26 aprile\, andrà in scena il Doppio Misto Under 15 e Under 17\, seguito dal Doppio Femminile e Maschile Under 15 e Under 17. Dalle ore 14\, invece\, si affronteranno il Singolare Femminile e Maschile Under 15 e Under 17. \nSabato 27 toccherà al Singolare Femminile e Maschile Under 15 e Under 17. \nLa giornata di domenica\, al contrario\, vedrà in campo il Doppio Misto Under 11 e Under 13\, seguito dal Doppio Femminile e Maschile Under 11 e Under 13. Dalle ore 14 in poi\, invece\, a sfidarsi saranno il Singolare Femminile e Maschile Under 11 e Under 13. \nLa giornata di lunedì sarà ancora dedicata al Singolare Femminile e Maschile Under 11 e Under 13. \nL’ultima giornata del campionato\, invece\, a gareggiare saranno le Squadre Femminile e Maschile Under 11 e Under 13. \nLe iscrizioni al torneo termineranno mercoledì 10 aprile 2024. Per partecipare al torneo è necessario essere in possesso del certificato di idoneità sportiva in corso di validità alla data del 30 aprile 2024. Tutte le iscrizioni alle gare di singolare e di doppio saranno a carico del Comitato Regionale\, mentre le iscrizioni per le gare a squadre restano a carico delle rispettive Società.\nTutti i tecnici e accompagnatori dovranno essere accreditati dalla società di appartenenza ed inseriti\, nei limiti previsti\, utilizzando l’apposita procedura on-line contestuale alle iscrizioni degli atleti. \nmodalita’ di svolgimento del campionato:\nLe gare di Singolare dei Campionati Italiani si svolgeranno con gironi iniziali di quattro/tre atleti e proseguiranno ad eliminazione diretta con partite al meglio dei 5 set.\nLe gare di doppio\, invece\, si disputeranno con tabellone ad eliminatoria diretta con partite al meglio dei 5 set.\nPer le gare a squadre si adotterà la formula che\, compatibilmente con il tempo a disposizione\, possa consentire di far giocare il maggior numero di match ai partecipanti.\nGli atleti Under 11 possono essere schierati in tutti gli altri settori d’età superiore\, mentre gli Under 13 possono gareggiare nei settori Under 15 e Under 17.\nGli atleti Under 15 possono essere schierati nel settore Under17\, mentre gli atleti Under 17 possono essere schierati solo nel loro settore. \nDi seguito riportiamo la locandina ufficiale dei Campionati Italiani Giovanili di tennistavolo: \n  \n \n  \n \n 
URL:https://www.tennistavoloitalia.it/evento/campionati-italiani-giovanili-2024/
LOCATION:Palatennistavolo “Aldo De Santis”\, Palazzetto dello Sport Aldo De Santis\, Terni\, TR\, 05100\, Italy
CATEGORIES:Tornei Federali
ATTACH;FMTTYPE=image/jpeg:https://www.tennistavoloitalia.it/wp-content/uploads/2024/04/WhatsApp-Image-2024-04-15-at-12.15.36.jpeg
END:VEVENT
BEGIN:VEVENT
DTSTART;TZID=Europe/Rome:20240419T080000
DTEND;TZID=Europe/Rome:20240421T210000
DTSTAMP:20260425T165605
CREATED:20240415T131005Z
LAST-MODIFIED:20240415T145608Z
UID:27779-1713513600-1713733200@www.tennistavoloitalia.it
SUMMARY:ULTIMA GIORNATA DI CAMPIONATO A SQUADRE
DESCRIPTION:Nel weekend di sabato 20 e domenica 21 aprile\, si svolgerà l’ultima giornata del campionato a squadre maschile di tennistavolo e gli ultimi incontri della Serie A1 e A2 del campionato femminile (questi ultimi non più rilevanti ai fini della classifica). \nIn alcune regioni si gareggerà a partire da venerdì 19 aprile: è il caso dell’ Alto Adige\, della Lombardia e della Toscana. \nGiocheranno in contemporanea tutte le serie\, dalla A1 alla D3. In palio promozioni e retrocessioni. \nserie a e serie b del campionato maschile:\nTra i match più attesi del Campionato maschile della serie A e della serie B vi sono: \n\nSerie A2 gir. A: sfida importante per la retrocessione l’incontro tra PHYSIS SERVIZI PER L’AMBIENTE DI CASCINA e PARVA DOMUS- ASDTT MARCO POLO;\nSerie A2 gir. B: scontro diretto tra A.S.D. Creative Call T.T. Stella del Sud Napoli e ASD POL. PG FRASSATI\, al momento in fondo alla classifica con rispettivamente 10 e 5 punti;\n Serie B1 gir. A: decisivo ai fini della retrocessione l’incontro tra ASD GRUPPO GIOVANILE SAN MICHELE e ASD TT ARENGARIO 1;\nSerie B1 gir. B: atteso lo scontro tra ASD US VILLA ROMANO e AON- MILANO SPORT TENNISTAVOLO;\nSerie B1 gir. E: determinante il match tra ASDTT Galleria Mugnano-FC Congressi e GERMAINE LECOCQ AMARO MONTE POLIZO\, attualmente ai margini della classifica;\nSerie B2 gir. B: scontro cruciale per la promozione l’incontro tra TT SILVER LINING- R. GIONTELLA FRIENDS e TECO CATTINA CORTEMAGGIORE\, al momento in una situazione di parità;\nSerie B2 gir. E: scontro diretto tra BERNINI TT LIVORNO e ASD TT ACSI PISA\, posizionate in fondo alla classifica con entrambe 8 punti;\nSerie B2 gir. F: decisiva la sfida tra la romana APD GIOVANNI CASTELLO e la napoletana ASD Tennistavolo Galleria Mugnano\, che giocheranno per evitare la retrocessione.\n\nserie c:\nQuesti\, invece\, gli incontri decisivi della serie C dell’ultima giornata del Campionato Maschile di ping pong: \n\nSerie C1 gir. A: determinante per la promozione alla serie B\, il match tra ASD POLISPORTIVA BESENELLO e POLISPORTIVA TREVISO ASD;\nSerie C1 gir. C: scontro al vertice tra U.S. OLIMPIA ASD SEZ T.T. e ASD TT Coccaglio COPY;\nSerie C1 gir. D: attesa la sfida tra le corregionali ASD TT ROMAGNANO e TENNISTAVOLO TORINO;\nSerie C1 gir. E: scontro diretto tra la capolista TECO FUMARA e ASD TT FERRARA- GIARA ASSICURAZIONI “B”;\nSerie C1 gir. L: decisivo ai fini della retrocessione il match tra U.P.R. MONTEMARCIANO e A.S.D.T.T. CAMPOMAGGIORE TERNI;\nSerie C1 gir. M: trepidazione per la sfida tra la prima in classifica ASD CRAL COMUNE DI ROMA e TT LIBERTAS CAPUA GIOIELLERIA SESSA\, che la segue con uno scarto di 4 punti;\nSerie C1 gir. N: incontro diretto tra le due squadre in fondo alla classifica\, la APD GIOVANNI CASTELLO e A.S.D. MURAVERESE TT GIALLA;\nSerie C1 gir. P: decisivo per la promozione in serie B\, la sfida tra le napoletane A.S.D. Creative Call T.T. Stella del Sud Napoli e GG TEAMWEAR- SANT’ESPEDITO NAPOLI;\nSerie C1 gir. Q: atteso il match tra la capolista ASD TT OLIMPICUS VALVERDE e TENNISTAVOLO CASPER RC\, a separarle vi sono solo 2 punti;\nSerie C1 gir. R: determinante per la retrocessione lo scontro tra ASD TT Modica “don Alibrandi” e ASD TT CEFALU’ “DUCA AMATO”.
URL:https://www.tennistavoloitalia.it/evento/ultima-giornata-di-campionato-a-squadre/
LOCATION:tutta italia
CATEGORIES:Campionato a Squadre,Tornei Federali
ATTACH;FMTTYPE=image/jpeg:https://www.tennistavoloitalia.it/wp-content/uploads/2024/04/Immagine-WhatsApp-2024-01-13-ore-10.30.13_1717c5d7.jpg
END:VEVENT
BEGIN:VEVENT
DTSTART;TZID=Europe/Rome:20240413T080000
DTEND;TZID=Europe/Rome:20240414T200000
DTSTAMP:20260425T165605
CREATED:20240412T141906Z
LAST-MODIFIED:20240412T142536Z
UID:27769-1712995200-1713124800@www.tennistavoloitalia.it
SUMMARY:WEEKEND DI CAMPIONATO A SQUADRE
DESCRIPTION:Nel weekend di sabato 13 e domenica 14 aprile\, si svolgerà la penultima giornata del campionato a squadre maschile e l’ultimo concentramento di quello femminile. \nGiocheranno in contemporanea tutte le serie\, dalla A1 alla D3. \nIn alcune regioni la D3 terminerà con una giornata di anticipo rispetto alle serie superiori\, quindi questa sarà per loro l’ultimo incontro della stagione (eventuali playoff e playout a parte). \nSi disputeranno diversi scontri diretti decisivi per la promozione alla serie superiore o per la permanenza nella stessa. Tra i match più attesi del Campionato maschile troviamo sicuramente: \n\nSerie B1 gir. A: scontro al vertice tra ASV TT SUDTIROL – C.S.D. ASK KRAS;\nSerie B1 gir. B: tensione per la sfida tra la capolista VISIONOTTICA NEW TT PIEVE EMANUELE-B e A4 VERZUOLI TONOLI che la segue con uno scarto di 2 punti;\nSerie B1 gir. C: particolarmente atteso l’incontro tra Usd Apuania Carrara Tennistavolo\, al momento in testa con 22 punti e INCAS CAFFE’ TENNIS TAVOLO LUCCA\, con 20 punti;\nSerie B1 gir. D: scontro diretto tra la CTT FERENTINO STUDIO ISABELLI SRL e la KING PONG di Roma;\nSerie B2 gir. A: atteso l’incontro tra la veneta VERGATI TT SARMEOLA “A” in testa con 22 punti e la ASC TT SARNTHEIN;\nSerie C1 gir. E: sfida importante per la retrocessione tra TENNISTAVOLO CASTEL GOFFREDO e AUDAX “VERIX” POVIGLIO\, che al momento si trovano in fondo alla classifica;\nSerie C1 gir. P: decisivo per la retrocessione l’incontro tra la ASD TT TORRE DEL GRECO e la STET MUGNANO A.\n\ncampionato femminile:\nPer quanto riguarda il Campionato femminile\, questi gli incontri più attesi: \n\nSerie B gir. A: scontro diretto tra ASV TT SUDTIROL e POLISPORTIVA TREVISO A;\nSerie B gir. B: trepidazione per la sfida tra la capolista ASD TT Vallecamonica B e BOTTEGA DEL CAFFE’ DERSUT ASD TT LAVIS;\nSerie B gir. C: decisivo ai fini della retrocessione l’incontro tra TT ISOLA DEL BOSCO ASD e ATIG TENNISTAVOLO S.POLO;\nSerie B gir. D: determinante la sfida tra G.S.G. REGALDI DI NOVARA e GRUPPO SPORTIVO VILLA GUARDIA\, al momento ultime in classifica con rispettivamente 4 e 3 punti;\nSerie B gir. E: anche qui si affronteranno le squadre in fondo alla classifica\, la ASD TT ARMA DI TAGGIA e la A.S.D. T.T. ENJOY\, a separarle vi è solo 1 punto.\n\n  \n 
URL:https://www.tennistavoloitalia.it/evento/weekend-di-campionato-a-squadre-maschile-e-femminile/
LOCATION:tutta italia
CATEGORIES:Campionato a Squadre,Tornei Federali
ATTACH;FMTTYPE=image/jpeg:https://www.tennistavoloitalia.it/wp-content/uploads/2024/04/RomaTennistavolo-125.jpg
END:VEVENT
BEGIN:VEVENT
DTSTART;TZID=Europe/Rome:20240404T090000
DTEND;TZID=Europe/Rome:20240407T200000
DTSTAMP:20260425T165605
CREATED:20240324T105334Z
LAST-MODIFIED:20240324T105334Z
UID:27149-1712221200-1712520000@www.tennistavoloitalia.it
SUMMARY:Campionati Italiani Paralimpici
DESCRIPTION:Dal 4 al 7 aprile a Castelbosco di Sopra\, presso la Palestra Comunale di Zurco\, si terranno i Campionati Italiani Paralimpici. \nTutte le gare si svolgeranno al meglio dei 3 set su 5; per quanto riguarda le gare di doppio\, è facoltà del Giudice Arbitro modificare la formula di gioco di una gara nel caso in cui l’elevato numero di iscrizioni ne impedisca la conclusione entro orari accettabili. \nLe iscrizioni ai Campionati Italiani Paralimpici termineranno giovedì 21 marzo. Per partecipare è necessario essere in possesso del certificato di idoneità sportiva in corso di validità alla data del 7 aprile 2024. \nDi seguito riportiamo la locandina ufficiale del torneo. \n  \n \n \n 
URL:https://www.tennistavoloitalia.it/evento/campionati-italiani-paralimpici/
LOCATION:Palestra Comunale di Zurco\, Via Nuovo per Bagnolo\, 2\, Cadelbosco di Sopra\, RE\, 42023\, Italia
CATEGORIES:Tornei Federali
ATTACH;FMTTYPE=image/jpeg:https://www.tennistavoloitalia.it/wp-content/uploads/2024/03/WhatsApp-Image-2024-03-22-at-13.12.52-e1711109760364.jpeg
END:VEVENT
END:VCALENDAR