BEGIN:VCALENDAR
VERSION:2.0
PRODID:-//TennisTavolo Italia - ECPv6.15.20//NONSGML v1.0//EN
CALSCALE:GREGORIAN
METHOD:PUBLISH
X-ORIGINAL-URL:https://www.tennistavoloitalia.it
X-WR-CALDESC:Eventi per TennisTavolo Italia
REFRESH-INTERVAL;VALUE=DURATION:PT1H
X-Robots-Tag:noindex
X-PUBLISHED-TTL:PT1H
BEGIN:VTIMEZONE
TZID:Europe/Rome
BEGIN:DAYLIGHT
TZOFFSETFROM:+0100
TZOFFSETTO:+0200
TZNAME:CEST
DTSTART:20250330T010000
END:DAYLIGHT
BEGIN:STANDARD
TZOFFSETFROM:+0200
TZOFFSETTO:+0100
TZNAME:CET
DTSTART:20251026T010000
END:STANDARD
BEGIN:DAYLIGHT
TZOFFSETFROM:+0100
TZOFFSETTO:+0200
TZNAME:CEST
DTSTART:20260329T010000
END:DAYLIGHT
BEGIN:STANDARD
TZOFFSETFROM:+0200
TZOFFSETTO:+0100
TZNAME:CET
DTSTART:20261025T010000
END:STANDARD
BEGIN:DAYLIGHT
TZOFFSETFROM:+0100
TZOFFSETTO:+0200
TZNAME:CEST
DTSTART:20270328T010000
END:DAYLIGHT
BEGIN:STANDARD
TZOFFSETFROM:+0200
TZOFFSETTO:+0100
TZNAME:CET
DTSTART:20271031T010000
END:STANDARD
END:VTIMEZONE
BEGIN:VEVENT
DTSTART;TZID=Europe/Rome:20260103T090000
DTEND;TZID=Europe/Rome:20260104T200000
DTSTAMP:20260419T180630
CREATED:20251202T151541Z
LAST-MODIFIED:20251207T185309Z
UID:34191-1767430800-1767556800@www.tennistavoloitalia.it
SUMMARY:Torneo Regionale di Categoria di Tennistavolo a Ferentino del 3-4 Gennaio 2026
DESCRIPTION:Sabato 3 e domenica 4 gennaio si svolgerà\, presso la palestra dell’ITIS “Morosini” sita a Ferentino\, un Torneo Regionale di Categoria di Tennistavolo. \nLa competizione sarà composta dalle seguenti gare: Singolare Maschile Assoluto\, Doppio Maschile Assoluto\, Singolare Femminile 4^ Categoria\, Singolare Maschile 4^ Categoria\, Singolare Maschile 5^ Categoria\, Singolare Femminile 4^-5^ Categoria\, Singolare Maschile 6^ Categoria\, Doppio Maschile 5^-6^ Categoria e Doppio Femminile 4^-5^ Categoria. \nL’iscrizione alla competizione terminerà martedì 30 dicembre. La quota di iscrizione è di 12€ per le gare singole e 20€ per quelle di doppio\, e dovranno essere saldate in segreteria prima di accedere al campo di gara. \nSi ricorda che stando al nuovo regolamento nazionale chiunque si cancellerà\, anche se entro il termine regolare dell’iscrizioni\, dovrà pagare una tassa di 10€. \nDi seguito la locandina ufficiale del Torneo Regionale di Categoria di Tennistavolo. \n  \n 
URL:https://www.tennistavoloitalia.it/evento/torneo-regionale-di-categoria-di-tennistavolo-a-ferentino-del-3-4-gennaio-2026/
LOCATION:Palestra I.T.I.S. “Morosini”\, Via Casilina Sud\, 165\, Ferentino\, FR\, 03013\, Italy
CATEGORIES:Torneo Regionale
ATTACH;FMTTYPE=image/jpeg:https://www.tennistavoloitalia.it/wp-content/uploads/2025/12/Torneo-Regionale-di-Categoria-di-Tennistavolo-a-Ferentino-del-3-4-Gennaio-2026-Copertina.jpg.jpg
END:VEVENT
BEGIN:VEVENT
DTSTART;TZID=Europe/Rome:20260117T090000
DTEND;TZID=Europe/Rome:20260118T200000
DTSTAMP:20260419T180630
CREATED:20260107T110518Z
LAST-MODIFIED:20260107T110635Z
UID:34376-1768640400-1768766400@www.tennistavoloitalia.it
SUMMARY:Torneo Over Interregionale di Tennistavolo ad Arezzo del 17-18 Gennaio 2026
DESCRIPTION:Sabato 17 e domenica 18 gennaio 2026 si svolgerà\, presso la Palestra Giorgina Cerbai sita ad AREZZO in Vicolo della Palestra n. 12/3\, un Torneo Over Interregionale di Tennistavolo. \nLa competizione\, che prevede l’apertura impianto alle ore 8:00 sia sabato che domenica\, sarà composta dalle seguenti gare: \n\nSabato 17/01: Singolare Over 7 (5000M / 350F) – Inizio ore 9:00\nSabato 17/01: Singolare Over 5 (2000M / 150F) – Inizio ore 14:30\nDomenica 18/01: Singolare Over 3 (450M / 25F) – Inizio ore 9:00\nDomenica 18/01: Singolare Over 1 (1200M / 90F) – Inizio ore 14:30\n\nL’iscrizione alla competizione (tramite il modulo elettronico disponibile sul sito federale www.fitet.org) terminerà mercoledì 14 gennaio 2026 alle ore 23:59. La quota di iscrizione è di 12€ per ciascuna gara e dovrà essere versata prima di accedere al campo di gara\, in segreteria per l’eventuale saldo o tramite bonifico bancario. \nSi ricorda che\, per iscriversi\, gli atleti dovranno essere tesserati entro le ore 23:59 di giovedì 15 gennaio 2026. Inoltre\, il certificato medico agonistico con data di validità che copra l’intera manifestazione (fino al giorno 18 gennaio 2026 incluso) deve essere in possesso dell’atleta. \nSi ricorda che stando al nuovo regolamento nazionale\, qualora l’atleta ritenga che non sia possibile portare a termine le gare e comunichi direttamente all’organizzazione la disdetta\, egli sarà escluso dalla manifestazione. La Società riceverà un’ammenda di 100€ in caso di mancata presentazione o iscrizione in carenza di certificato medico valido e che chiunque cancellerà la propria iscrizione\, anche se entro il termine regolare di quest’ultima\, dovrà pagare una tassa di 10€. \nDi seguito la locandina ufficiale del Torneo Over Interregionale di Tennistavolo.
URL:https://www.tennistavoloitalia.it/evento/torneo-over-interregionale-di-tennistavolo-ad-arezzo-del-17-18-gennaio-2026/
LOCATION:Palestra Giorgio Cerbai\, Vicolo della Palestra\, 12/3\, Arezzo\, AR\, 52100\, Italy
CATEGORIES:Torneo Regionale
ATTACH;FMTTYPE=image/jpeg:https://www.tennistavoloitalia.it/wp-content/uploads/2026/01/Copertina-tornei-arezzo-palestra-giorgio-cerbai.jpg
END:VEVENT
BEGIN:VEVENT
DTSTART;TZID=Europe/Rome:20260117T093000
DTEND;TZID=Europe/Rome:20260118T200000
DTSTAMP:20260419T180630
CREATED:20251231T161439Z
LAST-MODIFIED:20260105T130820Z
UID:34342-1768642200-1768766400@www.tennistavoloitalia.it
SUMMARY:Torneo Over Interregionale di Tennistavolo a Ciampino del 17-18 Gennaio 2026
DESCRIPTION:Sabato 17 e domenica 18 gennaio si svolgerà\, presso la palestra della Scuola Media Statale Umberto Nobile sita a Ciampino\, un Torneo Over Interregionale di Tennistavolo. \nLa competizione sarà composta dalle seguenti gare: Singolare Maschile e Femminile Over 1\, Singolare Maschile Over 1200 / Femminile Over 90\, Singolare Maschile Over 3800 / Femminile Over 230 e Singolare Maschile Over 6200 / Femminile Over 450. \nL’iscrizione alla competizione terminerà mercoledì 14 gennaio. La quota di iscrizione è di 12€ e dovrà essere saldata in segreteria prima di accedere al campo di gara. \nSi ricorda che stando al nuovo regolamento nazionale chiunque si cancellerà\, anche se entro il termine regolare dell’iscrizioni\, dovrà pagare una tassa di 10€. \nDi seguito la locandina ufficiale del Torneo Over Interregionale di Tennistavolo.
URL:https://www.tennistavoloitalia.it/evento/torneo-over-interregionale-di-tennistavolo-a-ciampino-del-17-18-gennaio-2026/
LOCATION:Palestra Scuola Umberto Nobile\, Via Mura dei Francesi 174\, Ciampino\, RM\, 00043\, Italia
CATEGORIES:Torneo Regionale
ATTACH;FMTTYPE=image/jpeg:https://www.tennistavoloitalia.it/wp-content/uploads/2025/11/Torneo-Regionale-di-Categoria-di-Tennistavolo-a-Ciampino-del-27-28-Dicembre-2025-Copertina.jpg
ORGANIZER;CN="A.S.D FUTURA '94":MAILTO:info@opestennistavolo.it
END:VEVENT
BEGIN:VEVENT
DTSTART;TZID=Europe/Rome:20260117T140000
DTEND;TZID=Europe/Rome:20260117T200000
DTSTAMP:20260419T180630
CREATED:20260105T125817Z
LAST-MODIFIED:20260105T125817Z
UID:34359-1768658400-1768680000@www.tennistavoloitalia.it
SUMMARY:Torneo Over Interregionale di Tennistavolo a Cagliari del 17 Gennaio 2026
DESCRIPTION:Sabato 17 gennaio si svolgerà\, presso il PALATENNISTAVOLO sito a Cagliari in Via Crespellani n. 11\, un Torneo Over Interregionale di Tennistavolo. \nLa competizione\, che prevede l’apertura impianto alle ore 14:00 e l’inizio gara alle ore 15:00\, sarà composta dalla seguente gara: Singolo Over 1 Maschile e Femminile (con un massimo di 48 partecipanti). \nL’iscrizione alla competizione (tramite il modulo elettronico disponibile sul sito federale) terminerà mercoledì 14 gennaio alle ore 23:59. La quota di iscrizione è di 10€ e dovrà essere versata in segreteria prima di accedere al campo gara. \nSi ricorda che\, per iscriversi\, gli atleti dovranno essere tesserati entro le ore 23:59 di domenica 11 gennaio. Inoltre\, il certificato di idoneità sportiva dovrà essere valido almeno fino a sabato 17 gennaio incluso. \nSi ricorda che stando al nuovo regolamento nazionale chiunque cancellerà la propria iscrizione\, anche se entro il termine regolare di quest’ultima\, dovrà pagare una tassa di 10€. \nDi seguito la locandina ufficiale del Torneo Over Interregionale di Tennistavolo.
URL:https://www.tennistavoloitalia.it/evento/torneo-over-interregionale-di-tennistavolo-a-cagliari-del-17-gennaio-2026/
LOCATION:Palatennistavolo di Cagliari\, Via Luigi Crespellani\, 11\, Cagliari\, CA\, 09121\, Italy
CATEGORIES:Torneo Regionale
ATTACH;FMTTYPE=image/jpeg:https://www.tennistavoloitalia.it/wp-content/uploads/2026/01/Copertina-tornei-fitet-marcozzi-cagliari.jpg
ORGANIZER;CN="A.S.D Marcozzi":MAILTO:tennistavolomarcozzi@tiscali.it
END:VEVENT
BEGIN:VEVENT
DTSTART;TZID=Europe/Rome:20260117T140000
DTEND;TZID=Europe/Rome:20260117T200000
DTSTAMP:20260419T180630
CREATED:20260105T142534Z
LAST-MODIFIED:20260105T142633Z
UID:34365-1768658400-1768680000@www.tennistavoloitalia.it
SUMMARY:Torneo Over Interregionale di Tennistavolo a Padova del 17 Gennaio 2026
DESCRIPTION:Sabato 17 gennaio 2026 si svolgerà\, presso l’IMPIANTO SPORTIVO VLACOVICH sito a PADOVA in VIA GIAMPAOLO VLACOVICH 4\, un Torneo Over Interregionale di Tennistavolo. \nLa competizione\, che prevede l’apertura impianto alle ore 8:00 e l’inizio della prima gara (Singolare OVER 1) alle ore 9:00\, sarà composta dalle seguenti gare: \n\nSingolare OVER 1 Maschile e Femminile (Max 36 partecipanti)\nSingolare OVER 4 Maschile Over 1200 / Femminile Over 90 (Max 36 partecipanti)\nSingolare OVER 5 Maschile Over 2000 / Femminile Over 150 (Max 48 partecipanti)\nSingolare OVER 7 Maschile Over 3800 / Femminile Over 350 (Max 42 partecipanti)\n\nL’iscrizione alla competizione (tramite il modulo elettronico disponibile sul sito federale) terminerà mercoledì 14 gennaio 2026 alle ore 23:59. La quota di iscrizione è di 12€ per ciascuna gara e dovrà essere saldata in sede gara o a mezzo bonifico bancario. \nSi ricorda che\, per iscriversi\, gli atleti dovranno essere tesserati entro le ore 23:59 di domenica 11 gennaio. Inoltre\, il certificato di idoneità sportiva dovrà essere valido almeno fino a giovedì 15 gennaio. \nSi ricorda che stando al nuovo regolamento nazionale chiunque cancellerà la propria iscrizione\, anche se entro il termine regolare di quest’ultima\, dovrà pagare una tassa di 10€. \nDi seguito la locandina ufficiale del Torneo Over Interregionale di Tennistavolo.
URL:https://www.tennistavoloitalia.it/evento/torneo-over-interregionale-di-tennistavolo-a-padova-del-17-gennaio-2026/
LOCATION:Impianto Sportivo Vlacovich\, Via Giampaolo Vlacovich\, 4\, Padova\, PD\, 35126\, Italy
CATEGORIES:Torneo Regionale
ATTACH;FMTTYPE=image/jpeg:https://www.tennistavoloitalia.it/wp-content/uploads/2026/01/copertina-tornei-vlacovich-asd-gs-tt-q4-padova.jpg
ORGANIZER;CN="ASD GS Tennistavolo Q4 Padova":MAILTO:tennistavoloq4@gmail.com
END:VEVENT
BEGIN:VEVENT
DTSTART;TZID=Europe/Rome:20260118T150000
DTEND;TZID=Europe/Rome:20260119T220000
DTSTAMP:20260419T180630
CREATED:20260102T141014Z
LAST-MODIFIED:20260105T130438Z
UID:34350-1768748400-1768860000@www.tennistavoloitalia.it
SUMMARY:Torneo Regionale Giovanile di Tennistavolo a Roma del 18 Gennaio 2026
DESCRIPTION:Domenica 18 gennaio 2026 si svolgerà\, presso il Liceo Scientifico Giuseppe Peano (sito a ROMA in Via Francesco Morandini n. 38)\, un Torneo Regionale Giovanile di Tennistavolo valido per la qualificazione ai Campionati Italiani. L’apertura dell’impianto è prevista per le ore 15:00. \nLa competizione\, che inizierà alle ore 16:00\, sarà composta dalle seguenti gare: \n\nSingolare Maschile Under 11 / Singolare Femminile Under 11\nSingolare Maschile Under 13 / Singolare Femminile Under 13\nSingolare Maschile Under 15 / Singolare Femminile Under 15\nSingolare Maschile Under 17 / Singolare Femminile Under 17\nSingolare Maschile Under 19 / Singolare Femminile Under 19\nSingolare Maschile Under 21 / Singolare Femminile Under 21\n\nL’iscrizione alla competizione (tramite il modulo elettronico sul sito federale) terminerà mercoledì 14 gennaio 2026 entro le ore 23:59. La quota di iscrizione\, che varia a seconda della gara da 8\,00€ a 10\,00€\, dovrà essere saldata in segreteria in sede di gara o a mezzo bonifico bancario. \nSi ricorda che il certificato medico deve essere valido alla data del 18 gennaio 2026. La mancata verifica della validità entro il 15 gennaio 2026 alle ore 09:00\, in caso negativo\, comporterà l’esclusione e l’ammenda di € 100\,00 alla Società. \nDi seguito la locandina ufficiale del Torneo Regionale Giovanile di Tennistavolo.
URL:https://www.tennistavoloitalia.it/evento/torneo-regionale-giovanile-di-tennistavolo-a-roma-del-18-gennaio-2026/
LOCATION:Liceo Scientifico Peano\, Via Francesco Morandini 38\, Roma\, RM\, 00142\, Italia
CATEGORIES:Tornei Federali,Torneo Regionale
ATTACH;FMTTYPE=image/jpeg:https://www.tennistavoloitalia.it/wp-content/uploads/2026/01/606434003_122286674666208424_9081283544330453232_n.jpg
END:VEVENT
END:VCALENDAR