BEGIN:VCALENDAR
VERSION:2.0
PRODID:-//TennisTavolo Italia - ECPv6.15.20//NONSGML v1.0//EN
CALSCALE:GREGORIAN
METHOD:PUBLISH
X-ORIGINAL-URL:https://www.tennistavoloitalia.it
X-WR-CALDESC:Eventi per TennisTavolo Italia
REFRESH-INTERVAL;VALUE=DURATION:PT1H
X-Robots-Tag:noindex
X-PUBLISHED-TTL:PT1H
BEGIN:VTIMEZONE
TZID:Europe/Rome
BEGIN:DAYLIGHT
TZOFFSETFROM:+0100
TZOFFSETTO:+0200
TZNAME:CEST
DTSTART:20250330T010000
END:DAYLIGHT
BEGIN:STANDARD
TZOFFSETFROM:+0200
TZOFFSETTO:+0100
TZNAME:CET
DTSTART:20251026T010000
END:STANDARD
BEGIN:DAYLIGHT
TZOFFSETFROM:+0100
TZOFFSETTO:+0200
TZNAME:CEST
DTSTART:20260329T010000
END:DAYLIGHT
BEGIN:STANDARD
TZOFFSETFROM:+0200
TZOFFSETTO:+0100
TZNAME:CET
DTSTART:20261025T010000
END:STANDARD
BEGIN:DAYLIGHT
TZOFFSETFROM:+0100
TZOFFSETTO:+0200
TZNAME:CEST
DTSTART:20270328T010000
END:DAYLIGHT
BEGIN:STANDARD
TZOFFSETFROM:+0200
TZOFFSETTO:+0100
TZNAME:CET
DTSTART:20271031T010000
END:STANDARD
END:VTIMEZONE
BEGIN:VEVENT
DTSTART;TZID=Europe/Rome:20260613T090000
DTEND;TZID=Europe/Rome:20260614T200000
DTSTAMP:20260424T195624
CREATED:20260421T105826Z
LAST-MODIFIED:20260421T105826Z
UID:35316-1781341200-1781467200@www.tennistavoloitalia.it
SUMMARY:Torneo Over Interregionale di Tennistavolo a Martina Franca del 13-14 Giugno 2026
DESCRIPTION:Sabato 13 e domenica 14 giugno 2026 si svolgerà\, presso il Centro Servizi sito a Martina Franca (TA) in Piazza D’Angiò\, un Torneo Over Interregionale di Tennistavolo. \nLa manifestazione\, organizzata dall’ASD TT Olimpia Martina\, prevede l’apertura dell’impianto alle ore 8:00 in entrambe le giornate  e sarà composta dalle seguenti gare: \nSabato 13/06: Singolare OVER 7 Maschile Pos. 5000+ / Femminile Pos. 350+ (ore 9:00)  e Singolare OVER 5 Maschile Pos. 2000+ / Femminile Pos. 150+ (ore 15:00).\nDomenica 14/06: Singolare OVER 3 Maschile Pos. 450+ / Femminile Pos. 25+ (ore 9:00)  e Singolare OVER 2 Maschile Pos. 120+ / Femminile Pos. 8+ (ore 15:00). \nL’iscrizione alla competizione\, da effettuarsi tramite il modulo elettronico sul sito federale www.fitet.org\, terminerà mercoledì 10 giugno 2026 alle ore 23:59. La quota di iscrizione è di 12\,00 € per ogni gara e dovrà essere saldata in segreteria prima dell’accesso al campo di gara. \nSi ricorda che\, per iscriversi\, gli atleti dovranno risultare tesserati entro le ore 23:59 di domenica 7 giugno 2026. Inoltre\, il certificato medico agonistico deve essere in corso di validità fino al giorno giovedì 11 giugno 2026 incluso; la mancanza di documentazione idonea comporterà l’esclusione dalla manifestazione con un’ammenda di 100\,00 € a carico della Società. \nSi ricorda che stando al nuovo regolamento nazionale\, in caso di rinuncia verrà applicata una sanzione di 10\,00 € alla Società di appartenenza dell’atleta. \nDi seguito riportiamo la locandina ufficiale del Torneo Over Interregionale di Tennistavolo.
URL:https://www.tennistavoloitalia.it/evento/torneo-over-interregionale-di-tennistavolo-a-martina-franca-del-13-14-giugno-2026/
LOCATION:Centro Servizi di Martina Franca\, Piazza Filippo d'Angiò\, Martina Franca\, TA\, 74015\, Italy
CATEGORIES:Torneo Regionale
ATTACH;FMTTYPE=image/jpeg:https://www.tennistavoloitalia.it/wp-content/uploads/2026/04/Torneo-Over-Interregionale-di-Tennistavolo-a-Martina-Franca-del-13-14-Giugno-2026-Copertina.jpg
ORGANIZER;CN="ASD TT Olimpia Martina":MAILTO:ttmartina@libero.it
END:VEVENT
END:VCALENDAR