BEGIN:VCALENDAR
VERSION:2.0
PRODID:-//TennisTavolo Italia - ECPv6.15.20//NONSGML v1.0//EN
CALSCALE:GREGORIAN
METHOD:PUBLISH
X-ORIGINAL-URL:https://www.tennistavoloitalia.it
X-WR-CALDESC:Eventi per TennisTavolo Italia
REFRESH-INTERVAL;VALUE=DURATION:PT1H
X-Robots-Tag:noindex
X-PUBLISHED-TTL:PT1H
BEGIN:VTIMEZONE
TZID:Europe/Rome
BEGIN:DAYLIGHT
TZOFFSETFROM:+0100
TZOFFSETTO:+0200
TZNAME:CEST
DTSTART:20240331T010000
END:DAYLIGHT
BEGIN:STANDARD
TZOFFSETFROM:+0200
TZOFFSETTO:+0100
TZNAME:CET
DTSTART:20241027T010000
END:STANDARD
BEGIN:DAYLIGHT
TZOFFSETFROM:+0100
TZOFFSETTO:+0200
TZNAME:CEST
DTSTART:20250330T010000
END:DAYLIGHT
BEGIN:STANDARD
TZOFFSETFROM:+0200
TZOFFSETTO:+0100
TZNAME:CET
DTSTART:20251026T010000
END:STANDARD
BEGIN:DAYLIGHT
TZOFFSETFROM:+0100
TZOFFSETTO:+0200
TZNAME:CEST
DTSTART:20260329T010000
END:DAYLIGHT
BEGIN:STANDARD
TZOFFSETFROM:+0200
TZOFFSETTO:+0100
TZNAME:CET
DTSTART:20261025T010000
END:STANDARD
END:VTIMEZONE
BEGIN:VEVENT
DTSTART;TZID=Europe/Rome:20250322T093000
DTEND;TZID=Europe/Rome:20250323T200000
DTSTAMP:20260420T003545
CREATED:20250317T145724Z
LAST-MODIFIED:20250317T145724Z
UID:30448-1742635800-1742760000@www.tennistavoloitalia.it
SUMMARY:Torneo Interregionale Open di Tennistavolo a Biella del 22-23 Marzo 2025
DESCRIPTION:Durante le giornate di sabato 22 e domenica 23 marzo si svolgerà\, presso la palestra dell’Istituto d’Istruzione Superiore Quintino Sella sito a Biella\, un Torneo Interregionale Open di Tennistavolo. \nLa competizione sarà composta dalle seguenti gare: Singolare Maschile Over 1500 / Femminile Over 80\, Singolare Maschile Over 3000 / Femminile Over 120\, Singolare Maschile Over 4700 / Femminile Over 205\, Doppio Maschile Over 4700 / Femminile Over 205\, Singolare Maschile Over 6200 / Femminile Over 410 e Doppio Maschile Over 6200 / Femminile Over 410. \nL’iscrizione alla competizione terminerà giovedì 20 marzo. Consultate la locandina per informazioni sulle quote d’iscrizione. \nDi seguito riportiamo la locandina ufficiale del Torneo Interregionale Open di Tennistavolo.
URL:https://www.tennistavoloitalia.it/evento/torneo-interregionale-open-di-tennistavolo-a-biella-del-22-23-marzo-2025/
LOCATION:Palestra Istituto d’Istruzione Superiore Quintino Sella\, Via Ivrea\, 1\, Biella\, BI\, 13900\, Italy
CATEGORIES:Torneo Regionale
ATTACH;FMTTYPE=image/jpeg:https://www.tennistavoloitalia.it/wp-content/uploads/2025/03/Torneo-Interregionale-Open-di-Tennistavolo-a-Biella-del-22-23-Marzo-2025-Copertina.jpg
ORGANIZER;CN="ASD TT Biella":MAILTO:cesareerba@virgilio.it
END:VEVENT
END:VCALENDAR