BEGIN:VCALENDAR
VERSION:2.0
PRODID:-//TennisTavolo Italia - ECPv6.15.20//NONSGML v1.0//EN
CALSCALE:GREGORIAN
METHOD:PUBLISH
X-ORIGINAL-URL:https://www.tennistavoloitalia.it
X-WR-CALDESC:Eventi per TennisTavolo Italia
REFRESH-INTERVAL;VALUE=DURATION:PT1H
X-Robots-Tag:noindex
X-PUBLISHED-TTL:PT1H
BEGIN:VTIMEZONE
TZID:Europe/Rome
BEGIN:DAYLIGHT
TZOFFSETFROM:+0100
TZOFFSETTO:+0200
TZNAME:CEST
DTSTART:20230326T010000
END:DAYLIGHT
BEGIN:STANDARD
TZOFFSETFROM:+0200
TZOFFSETTO:+0100
TZNAME:CET
DTSTART:20231029T010000
END:STANDARD
BEGIN:DAYLIGHT
TZOFFSETFROM:+0100
TZOFFSETTO:+0200
TZNAME:CEST
DTSTART:20240331T010000
END:DAYLIGHT
BEGIN:STANDARD
TZOFFSETFROM:+0200
TZOFFSETTO:+0100
TZNAME:CET
DTSTART:20241027T010000
END:STANDARD
BEGIN:DAYLIGHT
TZOFFSETFROM:+0100
TZOFFSETTO:+0200
TZNAME:CEST
DTSTART:20250330T010000
END:DAYLIGHT
BEGIN:STANDARD
TZOFFSETFROM:+0200
TZOFFSETTO:+0100
TZNAME:CET
DTSTART:20251026T010000
END:STANDARD
END:VTIMEZONE
BEGIN:VEVENT
DTSTART;VALUE=DATE:20240630
DTEND;VALUE=DATE:20240701
DTSTAMP:20260421T200256
CREATED:20240624T092359Z
LAST-MODIFIED:20240624T092359Z
UID:28430-1719705600-1719791999@www.tennistavoloitalia.it
SUMMARY:Torneo Open Maschile/Femminile di Tennistavolo a Milano
DESCRIPTION:Nella giornata di domenica 30 giugno si svolgerà\, presso il Palatennistavolo “Centro Sportivo Bonacossa”\, sito a Milano\, in via Mecenate 74\, un Torneo Open Maschile e Femminile di Tennistavolo. \nLe partite si svolgeranno al meglio dei 3 set su 5 con gironi iniziali da 4 giocatori e proseguiranno ad eliminazione diretta. \nLe iscrizioni al torneo termineranno mercoledì 26 giugno. Per partecipare è necessario contattare il proprio Presidente di Società\, il quale provvederà ad iscrivervi tramite il sito https://www.fitet.org/. \nLa quota d’iscrizione è di 12€ e dovrà essere saldata presso la Segreteria prima di accedere al campo gara. \nPer prendere parte al torneo gli atleti dovranno essere tesserati entro domenica 30 giugno 2024. Sono ammessi massimo 72 partecipanti. \nAlla fine della gara saranno premiati i primi 4 atleti classificati. \nDi seguito riportiamo la locandina ufficiale del Torneo Open Maschile e Femminile di Tennistavolo. \n  \n \n 
URL:https://www.tennistavoloitalia.it/evento/torneo-open-maschile-femminile-di-tennistavolo-a-milano/
LOCATION:Palatennistavolo “Centro Sportivo Bonacossa”\, Via Mecenate 74\, Milano\, MI\, 20138\, Italia
CATEGORIES:Tornei Federali
ATTACH;FMTTYPE=image/jpeg:https://www.tennistavoloitalia.it/wp-content/uploads/2024/06/Immagine-WhatsApp-2024-01-12-ore-12.45.23_ec60c2bc-1.jpg
END:VEVENT
END:VCALENDAR