BEGIN:VCALENDAR
VERSION:2.0
PRODID:-//TennisTavolo Italia - ECPv6.15.20//NONSGML v1.0//EN
CALSCALE:GREGORIAN
METHOD:PUBLISH
X-ORIGINAL-URL:https://www.tennistavoloitalia.it
X-WR-CALDESC:Eventi per TennisTavolo Italia
REFRESH-INTERVAL;VALUE=DURATION:PT1H
X-Robots-Tag:noindex
X-PUBLISHED-TTL:PT1H
BEGIN:VTIMEZONE
TZID:Europe/Rome
BEGIN:DAYLIGHT
TZOFFSETFROM:+0100
TZOFFSETTO:+0200
TZNAME:CEST
DTSTART:20250330T010000
END:DAYLIGHT
BEGIN:STANDARD
TZOFFSETFROM:+0200
TZOFFSETTO:+0100
TZNAME:CET
DTSTART:20251026T010000
END:STANDARD
BEGIN:DAYLIGHT
TZOFFSETFROM:+0100
TZOFFSETTO:+0200
TZNAME:CEST
DTSTART:20260329T010000
END:DAYLIGHT
BEGIN:STANDARD
TZOFFSETFROM:+0200
TZOFFSETTO:+0100
TZNAME:CET
DTSTART:20261025T010000
END:STANDARD
BEGIN:DAYLIGHT
TZOFFSETFROM:+0100
TZOFFSETTO:+0200
TZNAME:CEST
DTSTART:20270328T010000
END:DAYLIGHT
BEGIN:STANDARD
TZOFFSETFROM:+0200
TZOFFSETTO:+0100
TZNAME:CET
DTSTART:20271031T010000
END:STANDARD
END:VTIMEZONE
BEGIN:VEVENT
DTSTART;TZID=Europe/Rome:20260516T093000
DTEND;TZID=Europe/Rome:20260517T200000
DTSTAMP:20260423T040046
CREATED:20260421T101931Z
LAST-MODIFIED:20260421T101931Z
UID:35305-1778923800-1779048000@www.tennistavoloitalia.it
SUMMARY:Torneo Over Interregionale di Tennistavolo a Padova del 16-17 Maggio 2026
DESCRIPTION:Sabato 16 e domenica 17 maggio 2026 si svolgerà\, presso l’Impianto Sportivo Vlacovich sito a Padova in Via Giampaolo Vlacovich 4\, un Torneo Over Interregionale di Tennistavolo.  \nLa manifestazione\, organizzata dall’ASD GS Tennistavolo Q4 Padova\, prevede l’apertura dell’impianto alle ore 8:30 in entrambe le giornate e sarà composta dalle seguenti gare: \nSingolare OVER 1 Maschile Pos. 1+ / Femminile Pos. 1+ (Max 30 partecipanti)\nSingolare OVER 2 Maschile Pos. 120+ / Femminile Pos. 8+ (Max 30 partecipanti)\nSingolare OVER 3 Maschile Pos. 450+ / Femminile Pos. 25+ (Max 42 partecipanti)\nSingolare OVER 4 Maschile Pos. 1200+ / Femminile Pos. 90+ (Max 42 partecipanti)\nSingolare OVER 5 Maschile Pos. 2000+ / Femminile Pos. 150+ (Max 42 partecipanti)\nSingolare OVER 6 Maschile Pos. 3800+ / Femminile Pos. 230+ (Max 36 partecipanti)\nSingolare OVER 7 Maschile Pos. 5000+ / Femminile Pos. 350+ (Max 30 partecipanti)\nSingolare OVER 8 Maschile Pos. 6200+ / Femminile Pos. 450+ (Max 36 partecipanti)  \nL’iscrizione alla competizione\, da effettuarsi tramite il modulo elettronico sul sito federale www.fitet.org\, terminerà mercoledì 13 maggio 2026 alle ore 23:59. La quota di iscrizione è di 12\,00 € per ogni gara e dovrà essere saldata tramite bonifico bancario (IBAN: IT64E0623012147000015472619). \nSi ricorda che\, per iscriversi\, gli atleti dovranno risultare tesserati entro le ore 23:59 di domenica 10 maggio. Inoltre\, il certificato medico agonistico deve essere in corso di validità fino al giorno giovedì 14 maggio incluso; la mancanza di documentazione idonea comporterà l’esclusione dalla manifestazione con un’ammenda di 100\,00 € a carico della Società. \nSi ricorda che stando al nuovo regolamento nazionale\, in caso di rinuncia verrà applicata una sanzione di 10\,00 € alla Società di appartenenza dell’atleta. \nDi seguito la locandina ufficiale del Torneo Over Interregionale di Tennistavolo.
URL:https://www.tennistavoloitalia.it/evento/torneo-over-interregionale-di-tennistavolo-a-padova-del-16-17-maggio-2026/
LOCATION:Impianto Sportivo Vlacovich\, Via Giampaolo Vlacovich\, 4\, Padova\, PD\, 35126\, Italy
CATEGORIES:Torneo Regionale
ATTACH;FMTTYPE=image/jpeg:https://www.tennistavoloitalia.it/wp-content/uploads/2026/04/Torneo-Over-Interregionale-di-Tennistavolo-a-Padova-del-16-17-Maggio-2026-Copertina.jpg
ORGANIZER;CN="ASD GS Tennistavolo Q4 Padova":MAILTO:tennistavoloq4@gmail.com
END:VEVENT
END:VCALENDAR