BEGIN:VCALENDAR
VERSION:2.0
PRODID:-//TennisTavolo Italia - ECPv6.15.20//NONSGML v1.0//EN
CALSCALE:GREGORIAN
METHOD:PUBLISH
X-ORIGINAL-URL:https://www.tennistavoloitalia.it
X-WR-CALDESC:Eventi per TennisTavolo Italia
REFRESH-INTERVAL;VALUE=DURATION:PT1H
X-Robots-Tag:noindex
X-PUBLISHED-TTL:PT1H
BEGIN:VTIMEZONE
TZID:Europe/Rome
BEGIN:DAYLIGHT
TZOFFSETFROM:+0100
TZOFFSETTO:+0200
TZNAME:CEST
DTSTART:20230326T010000
END:DAYLIGHT
BEGIN:STANDARD
TZOFFSETFROM:+0200
TZOFFSETTO:+0100
TZNAME:CET
DTSTART:20231029T010000
END:STANDARD
BEGIN:DAYLIGHT
TZOFFSETFROM:+0100
TZOFFSETTO:+0200
TZNAME:CEST
DTSTART:20240331T010000
END:DAYLIGHT
BEGIN:STANDARD
TZOFFSETFROM:+0200
TZOFFSETTO:+0100
TZNAME:CET
DTSTART:20241027T010000
END:STANDARD
BEGIN:DAYLIGHT
TZOFFSETFROM:+0100
TZOFFSETTO:+0200
TZNAME:CEST
DTSTART:20250330T010000
END:DAYLIGHT
BEGIN:STANDARD
TZOFFSETFROM:+0200
TZOFFSETTO:+0100
TZNAME:CET
DTSTART:20251026T010000
END:STANDARD
END:VTIMEZONE
BEGIN:VEVENT
DTSTART;TZID=Europe/Rome:20241205T140000
DTEND;TZID=Europe/Rome:20241208T150000
DTSTAMP:20260421T062906
CREATED:20241105T163829Z
LAST-MODIFIED:20241105T163829Z
UID:29373-1733407200-1733670000@www.tennistavoloitalia.it
SUMMARY:Torneo Nazionale Giovanile di Tennistavolo a Terni dal 5 all'8 Dicembre 2024
DESCRIPTION:A partire da giovedì 5 fino a domenica 8 dicembre si svolgerà\, presso il Palatennistavolo “Aldo De Santis” sito a Terni\, un Torneo Nazionale Giovanile di Tennistavolo. \nLa competizione sarà composta dalle seguenti gare maschili e femminili: Singolare Under 11\, Singolare Under 13\, Singolare Under 15\, Singolare Under 17\, Singolare Under 19 e Singolare Under 21. \nPossono iscriversi alla competizione di Tennistavolo tutti gli atleti tesserati entro martedì 26 novembre. \nL’iscrizione alla competizione terminerà giovedì 28 novembre. La quota di iscrizione è di 10€ e sarà detratta dall’economato della società al termine della manifestazione. \nDi seguito riportiamo la locandina ufficiale del Torneo Nazionale Giovanile di Tennistavolo.
URL:https://www.tennistavoloitalia.it/evento/torneo-nazionale-giovanile-di-tennistavolo-a-terni-dal-5-all8-dicembre-2024/
LOCATION:Palatennistavolo “Aldo De Santis”\, Palazzetto dello Sport Aldo De Santis\, Terni\, TR\, 05100\, Italy
CATEGORIES:Tornei Federali
ATTACH;FMTTYPE=image/jpeg:https://www.tennistavoloitalia.it/wp-content/uploads/2024/11/Torneo-Nazionale-Giovanile-di-Tennistavolo-a-Terni-dal-5-all8-Dicembre-2024-Copertina.jpg
END:VEVENT
BEGIN:VEVENT
DTSTART;TZID=Europe/Rome:20241207T093000
DTEND;TZID=Europe/Rome:20241208T200000
DTSTAMP:20260421T062907
CREATED:20241119T145317Z
LAST-MODIFIED:20241119T145627Z
UID:29495-1733563800-1733688000@www.tennistavoloitalia.it
SUMMARY:Torneo Master Interregionale Open di Tennistavolo a Ciampino del 7-8 Dicembre 2024
DESCRIPTION:Nelle giornate di sabato 7 e domenica 8 dicembre si svolgerà\, presso la palestra della Scuola Media Statale Umberto Nobile sita a Ciampino\, un Torneo Master Interregionale Open di Tennistavolo. \nLa competizione sarà composta dalle seguenti gare: Singolare Maschile Over 40/60\, Singolare Femminile Over 40\, Singolare Maschile Over 60\, Doppio Misto Over 40\, Singolare Maschile Over 500 / Femminile Over 40\, Singolare Maschile Over 5000 / Femminile Over 80. \nPossono iscriversi alla competizione di Tennistavolo tutti gli atleti tesserati entro domenica 1° dicembre\, prendendo in considerazione le ultime classifiche individuali disponibili alla compilazione dei tabelloni. \nL’iscrizione alla competizione terminerà martedì 3 dicembre. La quota di iscrizione è di 12€ per le gare singolari e 20€ per quella di doppio. Tali quote dovranno essere saldate in segreteria prima di accedere al campo di gara. \nDi seguito riportiamo la locandina ufficiale del Torneo Master Interregionale Open di Tennistavolo.
URL:https://www.tennistavoloitalia.it/evento/torneo-master-interregionale-open-di-tennistavolo-a-ciampino-del-7-8-dicembre-2024/
LOCATION:Palestra Scuola Umberto Nobile\, Via Mura dei Francesi 174\, Ciampino\, RM\, 00043\, Italia
CATEGORIES:Torneo Regionale
ATTACH;FMTTYPE=image/jpeg:https://www.tennistavoloitalia.it/wp-content/uploads/2024/11/Torneo-Master-Interregionale-Open-di-Tennistavolo-a-Ciampino-del-7-8-Dicembre-2024-Copertina.jpg
ORGANIZER;CN="A.S.D FUTURA '94":MAILTO:info@opestennistavolo.it
END:VEVENT
BEGIN:VEVENT
DTSTART;TZID=Europe/Rome:20241208T100000
DTEND;TZID=Europe/Rome:20241208T203000
DTSTAMP:20260421T062907
CREATED:20241105T165816Z
LAST-MODIFIED:20241105T165816Z
UID:29378-1733652000-1733689800@www.tennistavoloitalia.it
SUMMARY:Torneo Nazionale Assoluto di Tennistavolo a Norbello dell'8 Dicembre 2024
DESCRIPTION:Nella giornata di domenica 8 dicembre si svolgerà\, presso la Palestra Comunale di Norbello\, un Torneo Nazionale Assoluto di Tennistavolo. \nLa competizione sarà composta dalle seguenti gare: Singolare Maschile Assoluto e Singolare Femminile Assoluto. \nPossono iscriversi alla competizione di Tennistavolo tutti gli atleti tesserati entro domenica 1° dicembre. \nL’iscrizione alla competizione terminerà venerdì 6 dicembre. La quota di iscrizione è di 12€ e sarà detratta dall’economato della società al termine della manifestazione. \nDi seguito riportiamo la locandina ufficiale del Torneo Nazionale Assoluto di Tennistavolo.
URL:https://www.tennistavoloitalia.it/evento/torneo-nazionale-assoluto-di-tennistavolo-a-norbello-dell8-dicembre-2024/
LOCATION:Palestra Comunale di Norbello\, Via Azuni\, Norbello\, OR\, 09070\, Italy
CATEGORIES:Tornei Federali
ATTACH;FMTTYPE=image/jpeg:https://www.tennistavoloitalia.it/wp-content/uploads/2024/11/Torneo-Nazionale-Assoluto-di-Tennistavolo-a-Norbello-dell8-Dicembre-2024-Copertina.jpg
ORGANIZER;CN="A.S.D. Tennistavolo Norbello":MAILTO:tennistavolonorbello@tiscali.it
END:VEVENT
END:VCALENDAR