BEGIN:VCALENDAR
VERSION:2.0
PRODID:-//TennisTavolo Italia - ECPv6.15.20//NONSGML v1.0//EN
CALSCALE:GREGORIAN
METHOD:PUBLISH
X-WR-CALNAME:TennisTavolo Italia
X-ORIGINAL-URL:https://www.tennistavoloitalia.it
X-WR-CALDESC:Eventi per TennisTavolo Italia
REFRESH-INTERVAL;VALUE=DURATION:PT1H
X-Robots-Tag:noindex
X-PUBLISHED-TTL:PT1H
BEGIN:VTIMEZONE
TZID:Europe/Rome
BEGIN:DAYLIGHT
TZOFFSETFROM:+0100
TZOFFSETTO:+0200
TZNAME:CEST
DTSTART:20230326T010000
END:DAYLIGHT
BEGIN:STANDARD
TZOFFSETFROM:+0200
TZOFFSETTO:+0100
TZNAME:CET
DTSTART:20231029T010000
END:STANDARD
BEGIN:DAYLIGHT
TZOFFSETFROM:+0100
TZOFFSETTO:+0200
TZNAME:CEST
DTSTART:20240331T010000
END:DAYLIGHT
BEGIN:STANDARD
TZOFFSETFROM:+0200
TZOFFSETTO:+0100
TZNAME:CET
DTSTART:20241027T010000
END:STANDARD
BEGIN:DAYLIGHT
TZOFFSETFROM:+0100
TZOFFSETTO:+0200
TZNAME:CEST
DTSTART:20250330T010000
END:DAYLIGHT
BEGIN:STANDARD
TZOFFSETFROM:+0200
TZOFFSETTO:+0100
TZNAME:CET
DTSTART:20251026T010000
END:STANDARD
BEGIN:DAYLIGHT
TZOFFSETFROM:+0100
TZOFFSETTO:+0200
TZNAME:CEST
DTSTART:20260329T010000
END:DAYLIGHT
BEGIN:STANDARD
TZOFFSETFROM:+0200
TZOFFSETTO:+0100
TZNAME:CET
DTSTART:20261025T010000
END:STANDARD
END:VTIMEZONE
BEGIN:VEVENT
DTSTART;TZID=Europe/Rome:20250503T093000
DTEND;TZID=Europe/Rome:20250504T200000
DTSTAMP:20260424T132322
CREATED:20250422T143511Z
LAST-MODIFIED:20250422T143511Z
UID:30837-1746264600-1746388800@www.tennistavoloitalia.it
SUMMARY:Torneo Interregionale Open di Tennistavolo a Siracusa del 3-4 Maggio 2025
DESCRIPTION:Nelle giornate di sabato 3 e domenica 4 maggio si svolgerà\, presso la palestra “Pino Corso” sita a Siracusa\, un Torneo Interregionale Open di Tennistavolo. \nLa competizione sarà composta dalle seguenti gare: Singolare Maschile e Femminile Assoluto\, Singolare Maschile Over 500 / Femminile Over 50\, Singolare Maschile Over 1700 / Femminile Over 120 e Singolare Maschile Over 4000 / Femminile Over 240. \nL’iscrizione alla competizione terminerà mercoledì 30 aprile. La quota di iscrizione è di 12€ e verrà detratta automaticamente dall’economato della società al termine della competizione. \nDi seguito riportiamo la locandina ufficiale del Torneo Interregionale Open di Tennistavolo.
URL:https://www.tennistavoloitalia.it/evento/torneo-interregionale-open-di-tennistavolo-a-siracusa-del-3-4-maggio-2025/
LOCATION:Palestra “Pino Corso”\, Via Damone\, Siracusa\, SR\, 96100\, Italy
CATEGORIES:Torneo Regionale
ATTACH;FMTTYPE=image/jpeg:https://www.tennistavoloitalia.it/wp-content/uploads/2025/04/Torneo-Interregionale-Open-di-Tennistavolo-a-Siracusa-del-3-4-Maggio-2025-Copertina.jpg
END:VEVENT
BEGIN:VEVENT
DTSTART;TZID=Europe/Rome:20240907T093000
DTEND;TZID=Europe/Rome:20240908T170000
DTSTAMP:20260424T132322
CREATED:20240822T144642Z
LAST-MODIFIED:20240822T145025Z
UID:28866-1725701400-1725814800@www.tennistavoloitalia.it
SUMMARY:Torneo Interregionale Open di Tennistavolo a Belpasso del 7-8 Settembre 2024
DESCRIPTION:Nelle giornate di sabato 7 e 8 settembre si svolgerà\, presso il Palazzetto dello Sport di Belpasso\, un Torneo Interregionale Open di Tennistavolo. \nLa competizione avrà inizio alle ore 9.30 con il Singolare Maschile Over 2000 / Femminile Over 120 e proseguirà alle 14.30 col Singolare Maschile Over 700 / Femminile Over 70. \nLa gara continuerà domenica alle 9.30 con il Singolare Maschile Over 4500 / Femminile Over 240 e si concluderà alle 14 col Singolare Maschile Over 80 / Femminile Over 1. \nPossono iscriversi alla competizione di Tennistavolo tutti gli atleti tesserati entro il termine delle iscrizioni\, prendendo in considerazione le classifiche individuali di inizio stagione. \nL’iscrizione alla competizione terminerà giovedì 5 settembre. La quota di iscrizione è di 12€ e dovrà essere saldata prima di accedere al campo di gara presso la Segreteria. \nDi seguito riportiamo la locandina ufficiale del Torneo Interregionale Open di Tennistavolo.
URL:https://www.tennistavoloitalia.it/evento/torneo-interregionale-open-di-tennistavolo-a-belpasso-del-7-8-settembre-2024/
LOCATION:Palazzetto dello Sport Belpasso\, Via Fausto Coppi\, Belpasso\, CT\, 95032\, Italia
CATEGORIES:Torneo Regionale
ATTACH;FMTTYPE=image/jpeg:https://www.tennistavoloitalia.it/wp-content/uploads/2024/08/Torneo-Interregionale-Open-di-Tennistavolo-a-Belpasso-del-7-8-Settembre-2024-Copertina.jpg
END:VEVENT
BEGIN:VEVENT
DTSTART;VALUE=DATE:20240630
DTEND;VALUE=DATE:20240701
DTSTAMP:20260424T132322
CREATED:20240624T095418Z
LAST-MODIFIED:20240624T095418Z
UID:28438-1719705600-1719791999@www.tennistavoloitalia.it
SUMMARY:Torneo Open Ranking di Tennistavolo a Cagliari del 30 giugno 2024
DESCRIPTION:Domenica 30 giugno a Cagliari\, presso il Palatennistavolo sito in via Crespellani 11\, si svolgerà un Torneo Open Ranking di Tennistavolo. \nLa competizione avrà inizio alle ore 9 con il Singolo Over 4000 Maschile e proseguirà alle 15.30 con il Singolo Over 2000 Maschile + Over 100 Femminile. \nTutte le gare si svolgeranno al meglio dei 3 set su 5. Ogni atleta potrà partecipare a due gare. Sono ammessi anche atleti tesserati per Società che hanno sede in altre Regioni. \nLe iscrizioni al torneo termineranno giovedì 27 giugno 2024. Per partecipare alla gara è necessario contattare il proprio Presidente di Società\, il quale provvederà ad iscrivervi tramite il sito https://www.fitet.org/. \nLa quota d’iscrizione è di 8€ e dovrà essere saldata presso la Segreteria prima di accedere al campo gara. \nDi seguito riportiamo la locandina ufficiale del torneo Open Ranking di Tennistavolo. \n  \n \n 
URL:https://www.tennistavoloitalia.it/evento/torneo-open-ranking-di-tennistavolo-a-cagliari/
LOCATION:Palatennistavolo Via Crespellani 11\, Via Crespellani 11\, Cagliari\, CA\, 09121\, Italia
CATEGORIES:Tornei Federali
ATTACH;FMTTYPE=image/jpeg:https://www.tennistavoloitalia.it/wp-content/uploads/2024/06/2.jpg
ORGANIZER;CN="Fitet Sardegna":MAILTO:tennistavolomarcozzi@tiscali.it
END:VEVENT
BEGIN:VEVENT
DTSTART;TZID=Europe/Rome:20240504T093000
DTEND;TZID=Europe/Rome:20240505T170000
DTSTAMP:20260424T132322
CREATED:20240417T153438Z
LAST-MODIFIED:20240417T153912Z
UID:27903-1714815000-1714928400@www.tennistavoloitalia.it
SUMMARY:Torneo Open Interregionale di Tennistavolo a Messina del 4-5 Maggio 2024
DESCRIPTION:Sabato 4 e domenica 5 maggio si svolgerà\, presso la Palestra Villa Dante\, sita a Messina\, in viale San Martino\, un Torneo Open Interregionale di Tennistavolo. \nLa competizione di Tennistavolo avrà inizio alle 9.30 di sabato con il Singolare Maschile 6^ Categoria e proseguirà nel pomeriggio\, alle 14\, con il Singolare Maschile 5^ Categoria. \nSi riprenderà domenica alle ore 9.30 con il Doppio Maschile 4^ 5^ e 6^ Categoria e si concluderà con la gara delle 11.30\, il Singolare Maschile 4^ Categoria. \nAlla competizione potranno prendere parte tutti gli atleti tesserati entro le ore 23.59 di mercoledì 1° maggio\, secondo la propria Categoria\, prendendo in considerazione le classifiche valide al momento della chiusura delle iscrizioni. Sono ammessi 56 atleti per ciascuna gara singolare in programma e 32 coppie per quelle di doppio. I primi 16 classificati della gara di 6^ Categoria possono iscriversi alla successiva di 5^ Categoria; i primi 16 classificati della gara di 5^ Categoria possono iscriversi alla successiva di 4^ Categoria. L’iscrizione va richiesta al Giudice Arbitro del Torneo non appena si consegue la posizione che ne dà diritto. \nPer partecipare al torneo di Tennistavolo è necessario contattare il proprio Presidente di Società\, il quale provvederà a iscrivervi tramite il sito https://www.fitet.org/. \nL’iscrizione alla competizione terminerà mercoledì 1° maggio. La quota di iscrizione è di 12€ per gare singole e 16€ per quelle di doppio. Tale quota dovrà essere saldata prima di accedere al campo di gara presso la Segreteria. \nDi seguito riportiamo la locandina ufficiale del Torneo Open Interregionale di Tennistavolo.
URL:https://www.tennistavoloitalia.it/evento/torneo-open-interregionale-di-tennistavolo-a-messina-del-4-5-maggio-2024/
LOCATION:Palestra Villa Dante\, Viale San Martino\, Messina\, ME\, 98124\, Italia
CATEGORIES:Tornei Federali
ATTACH;FMTTYPE=image/jpeg:https://www.tennistavoloitalia.it/wp-content/uploads/2024/04/torneo-open-interregionale-di-tennistavolo-a-messina-del-4-5-maggio-2024.jpg
END:VEVENT
END:VCALENDAR