BEGIN:VCALENDAR
VERSION:2.0
PRODID:-//TennisTavolo Italia - ECPv6.15.20//NONSGML v1.0//EN
CALSCALE:GREGORIAN
METHOD:PUBLISH
X-WR-CALNAME:TennisTavolo Italia
X-ORIGINAL-URL:https://www.tennistavoloitalia.it
X-WR-CALDESC:Eventi per TennisTavolo Italia
REFRESH-INTERVAL;VALUE=DURATION:PT1H
X-Robots-Tag:noindex
X-PUBLISHED-TTL:PT1H
BEGIN:VTIMEZONE
TZID:Europe/Rome
BEGIN:DAYLIGHT
TZOFFSETFROM:+0100
TZOFFSETTO:+0200
TZNAME:CEST
DTSTART:20240331T010000
END:DAYLIGHT
BEGIN:STANDARD
TZOFFSETFROM:+0200
TZOFFSETTO:+0100
TZNAME:CET
DTSTART:20241027T010000
END:STANDARD
BEGIN:DAYLIGHT
TZOFFSETFROM:+0100
TZOFFSETTO:+0200
TZNAME:CEST
DTSTART:20250330T010000
END:DAYLIGHT
BEGIN:STANDARD
TZOFFSETFROM:+0200
TZOFFSETTO:+0100
TZNAME:CET
DTSTART:20251026T010000
END:STANDARD
BEGIN:DAYLIGHT
TZOFFSETFROM:+0100
TZOFFSETTO:+0200
TZNAME:CEST
DTSTART:20260329T010000
END:DAYLIGHT
BEGIN:STANDARD
TZOFFSETFROM:+0200
TZOFFSETTO:+0100
TZNAME:CET
DTSTART:20261025T010000
END:STANDARD
END:VTIMEZONE
BEGIN:VEVENT
DTSTART;TZID=Europe/Rome:20250201T093000
DTEND;TZID=Europe/Rome:20250202T200000
DTSTAMP:20260423T082350
CREATED:20250113T105746Z
LAST-MODIFIED:20250113T105746Z
UID:30120-1738402200-1738526400@www.tennistavoloitalia.it
SUMMARY:Tornei Regionali di Tennistavolo a Ciampino del 1-2 Febbraio 2025
DESCRIPTION:Nelle giornate di sabato 1 e domenica 2 febbraio si svolgeranno contemporaneamente\, presso la palestra della Scuola Media Statale Umberto Nobile sita a Ciampino\, dei Tornei Regionali di Tennistavolo. \nIl programma per le due giornate sarà composto dalle seguenti gare: Singolare Assoluto Maschile/Femminile\, Singolare Femminile 4^ Categoria\, Singolare Maschile 5^ Categoria\, Singolare Femminile 5^ Categoria\, Singolare Maschile Over 5000\, Singolare Maschile Under 11\, Singolare Femminile Under 11\, Singolare Maschile Under 13\, Singolare Femminile Under 13\, Singolare Maschile Under 15\, Singolare Femminile Under 15\, Singolare Maschile Under 17\, Singolare Femminile Under 17\, Singolare Maschile Under 19\, Singolare Femminile Under 19\, Singolare Maschile Under 21\, Singolare Femminile Under 21. \nPossono iscriversi alle competizioni regionali di Tennistavolo tutti gli atleti tesserati entro domenica 26 gennaio in società con sede legale nel territorio della regione Lazio. \nL’iscrizione alla competizione terminerà martedì 28 gennaio. La quota d’iscrizione per le gare singolari giovanile varia dagli 8€ ai 10€ e quella per le gare singolari è di 12€. Tali quote dovranno essere saldate in segreteria prima di accedere al campo di gara. \nDi seguito riportiamo la locandina ufficiale dei Tornei Regionali di Tennistavolo.
URL:https://www.tennistavoloitalia.it/evento/tornei-regionali-di-tennistavolo-a-ciampino-del-1-2-febbraio-2025/
LOCATION:Palestra Scuola Umberto Nobile\, Via Mura dei Francesi 174\, Ciampino\, RM\, 00043\, Italia
CATEGORIES:Torneo Regionale
ATTACH;FMTTYPE=image/jpeg:https://www.tennistavoloitalia.it/wp-content/uploads/2025/01/Tornei-di-Tennistavolo-a-Ciampino-del-1-2-Febbraio-2025-Copertina.jpg
ORGANIZER;CN="A.S.D FUTURA '94":MAILTO:info@opestennistavolo.it
END:VEVENT
BEGIN:VEVENT
DTSTART;TZID=Europe/Rome:20250208T093000
DTEND;TZID=Europe/Rome:20250209T210000
DTSTAMP:20260423T082350
CREATED:20250128T144102Z
LAST-MODIFIED:20250128T144102Z
UID:30140-1739007000-1739134800@www.tennistavoloitalia.it
SUMMARY:Campionati Regionali di Tennistavolo a Ferentino del 8-9 Febbraio 2025
DESCRIPTION:Nelle giornate di sabato 8 e domenica 9 febbraio si svolgeranno\, presso il Palazzetto dello Sport di Via Aldo Moro sito a Ferentino\, dei Campionati Regionali di Tennistavolo. \nLa competizione di Tennistavolo sarà composta dalle seguenti gare: Singolare Assoluto Maschile\, Singolare Assoluto Femminile\, Singolare Maschile 3^ Categoria\, Singolare Femminile 3^ Categoria\, Singolare Maschile 4^ Categoria\, Singolare Femminile 4^ Categoria\, Singolare Maschile 5^ Categoria\, Singolare Femminile 5^ Categoria\, Singolare Maschile 6^ Categoria. \nPossono iscriversi alla gara tutti gli atleti italiani e stranieri tesserati in società con sede sul territorio laziale entro domenica 2 febbraio. \nL’iscrizione alla competizione terminerà mercoledì 5 febbraio. La quota di iscrizione è di 12€ e dovrà essere saldata prima di accedere al campo gara presso la Segreteria. \nDi seguito riportiamo la locandina ufficiale dei Campionati Regionali di Tennistavolo.
URL:https://www.tennistavoloitalia.it/evento/campionati-regionali-di-tennistavolo-a-ferentino-del-8-9-febbraio-2025/
LOCATION:Palazzetto dello Sport di Via Aldo Moro\, Via Aldo Moro\, Ferentino\, FR\, 03013\, Italy
CATEGORIES:Torneo Regionale
ATTACH;FMTTYPE=image/jpeg:https://www.tennistavoloitalia.it/wp-content/uploads/2025/01/Campionati-Regionali-di-Tennistavolo-a-Ferentino-del-8-9-Febbraio-2025-Copertina.jpg
END:VEVENT
BEGIN:VEVENT
DTSTART;TZID=Europe/Rome:20250228T083000
DTEND;TZID=Europe/Rome:20250302T170000
DTSTAMP:20260423T082350
CREATED:20250218T163647Z
LAST-MODIFIED:20250317T142220Z
UID:30301-1740731400-1740934800@www.tennistavoloitalia.it
SUMMARY:Campionati Nazionali Giovanili di Tennistavolo a Terni dal 28 Febbraio al 2 Marzo 2025
DESCRIPTION:A partire da venerdì 28 febbraio a domenica 2 marzo si svolgeranno\, presso il Palatennistavolo “Aldo De Santis” sito a Terni\, dei Campionati Nazionali Giovanili di Tennistavolo. \nLa competizione di Tennistavolo sarà composta dai singolari e doppi maschili\, femminili e misti under 19 e under 21. \nPer partecipare al torneo di Tennistavolo è necessario contattare il proprio Presidente di Società\, il quale provvederà a iscrivervi tramite il sito https://www.fitet.org/. \nL’iscrizione alla competizione terminerà giovedì 27 febbraio. \nLe quote di iscrizione sono consultabili sulla locandina. Tali quote saranno detratte automaticamente dall’economato della società al termine della manifestazione. \nDi seguito riportiamo la locandina ufficiale dei Campionati Nazionali Giovanili di Tennistavolo.
URL:https://www.tennistavoloitalia.it/evento/campionati-nazionali-giovanili-di-tennistavolo-a-roma-dal-28-febbraio-al-2-marzo-2025/
LOCATION:Palatennistavolo “Aldo De Santis”\, Palazzetto dello Sport Aldo De Santis\, Terni\, TR\, 05100\, Italy
CATEGORIES:Tornei Federali
ATTACH;FMTTYPE=image/jpeg:https://www.tennistavoloitalia.it/wp-content/uploads/2025/02/Campionati-Nazionali-Giovanili-di-Tennistavolo-a-Roma-dal-28-Febbraio-al-2-Marzo-2025-Copertina.jpg
END:VEVENT
END:VCALENDAR